BEGIN:VCALENDAR
VERSION:2.0
PRODID:-//Habitat for Humanity Tampa Bay Gulfside - ECPv6.15.20//NONSGML v1.0//EN
CALSCALE:GREGORIAN
METHOD:PUBLISH
X-ORIGINAL-URL:https://habitattbg.org
X-WR-CALDESC:Events for Habitat for Humanity Tampa Bay Gulfside
REFRESH-INTERVAL;VALUE=DURATION:PT1H
X-Robots-Tag:noindex
X-PUBLISHED-TTL:PT1H
BEGIN:VTIMEZONE
TZID:America/New_York
BEGIN:DAYLIGHT
TZOFFSETFROM:-0500
TZOFFSETTO:-0400
TZNAME:EDT
DTSTART:20240310T070000
END:DAYLIGHT
BEGIN:STANDARD
TZOFFSETFROM:-0400
TZOFFSETTO:-0500
TZNAME:EST
DTSTART:20241103T060000
END:STANDARD
BEGIN:DAYLIGHT
TZOFFSETFROM:-0500
TZOFFSETTO:-0400
TZNAME:EDT
DTSTART:20250309T070000
END:DAYLIGHT
BEGIN:STANDARD
TZOFFSETFROM:-0400
TZOFFSETTO:-0500
TZNAME:EST
DTSTART:20251102T060000
END:STANDARD
BEGIN:DAYLIGHT
TZOFFSETFROM:-0500
TZOFFSETTO:-0400
TZNAME:EDT
DTSTART:20260308T070000
END:DAYLIGHT
BEGIN:STANDARD
TZOFFSETFROM:-0400
TZOFFSETTO:-0500
TZNAME:EST
DTSTART:20261101T060000
END:STANDARD
END:VTIMEZONE
BEGIN:VEVENT
DTSTART;TZID=America/New_York:20250617T090000
DTEND;TZID=America/New_York:20250617T093000
DTSTAMP:20260423T123652
CREATED:20250513T171709Z
LAST-MODIFIED:20250513T171709Z
UID:8043-1750150800-1750152600@habitattbg.org
SUMMARY:The Bodine Family Home Dedication
DESCRIPTION:Please join us to celebrate the home dedication of Michelle and her family.\nA Habitat Home Dedication is the best 15 minutes of your day! Home Dedications are held at the finished home of a Habitat Homeownership Partner. When a new homeowner opens the front door of their new safe and affordable home for the first time\, it serves as a symbol of breaking the cycle of generational poverty. Join us to learn the impact of the Habitat for Humanity program and how you can get involved.\nThe Bodine Family’s new home is located at 6347 67th Lane N.\, Pinellas Park\, FL 33781 and is sponsored by Raymond James.\nThe dedication will also be broadcast live: https://www.facebook.com/HabitatTampaBayGulfside/live/\nFor more information on the Bodine Family and other Habitat families\, please visit our Homeowner Stories blog at: https://mediumvioletred-elk-623988.hostingersite.com/news/homeowner-stories/
URL:https://habitattbg.org/event/the-bodine-family-home-dedication/
LOCATION:6347 67th Lane N.\, Pinellas Park\, FL 33781
CATEGORIES:Home Dedication
END:VEVENT
END:VCALENDAR