BEGIN:VCALENDAR
VERSION:2.0
PRODID:-//Habitat for Humanity Tampa Bay Gulfside - ECPv6.15.20//NONSGML v1.0//EN
CALSCALE:GREGORIAN
METHOD:PUBLISH
X-WR-CALNAME:Habitat for Humanity Tampa Bay Gulfside
X-ORIGINAL-URL:https://habitattbg.org
X-WR-CALDESC:Events for Habitat for Humanity Tampa Bay Gulfside
REFRESH-INTERVAL;VALUE=DURATION:PT1H
X-Robots-Tag:noindex
X-PUBLISHED-TTL:PT1H
BEGIN:VTIMEZONE
TZID:America/New_York
BEGIN:DAYLIGHT
TZOFFSETFROM:-0500
TZOFFSETTO:-0400
TZNAME:EDT
DTSTART:20240310T070000
END:DAYLIGHT
BEGIN:STANDARD
TZOFFSETFROM:-0400
TZOFFSETTO:-0500
TZNAME:EST
DTSTART:20241103T060000
END:STANDARD
BEGIN:DAYLIGHT
TZOFFSETFROM:-0500
TZOFFSETTO:-0400
TZNAME:EDT
DTSTART:20250309T070000
END:DAYLIGHT
BEGIN:STANDARD
TZOFFSETFROM:-0400
TZOFFSETTO:-0500
TZNAME:EST
DTSTART:20251102T060000
END:STANDARD
BEGIN:DAYLIGHT
TZOFFSETFROM:-0500
TZOFFSETTO:-0400
TZNAME:EDT
DTSTART:20260308T070000
END:DAYLIGHT
BEGIN:STANDARD
TZOFFSETFROM:-0400
TZOFFSETTO:-0500
TZNAME:EST
DTSTART:20261101T060000
END:STANDARD
END:VTIMEZONE
BEGIN:VEVENT
DTSTART;TZID=America/New_York:20250509T090000
DTEND;TZID=America/New_York:20250509T093000
DTSTAMP:20260423T140155
CREATED:20250501T152605Z
LAST-MODIFIED:20250501T152605Z
UID:7969-1746781200-1746783000@habitattbg.org
SUMMARY:Double Home Dedication: The Young & Schultz Families
DESCRIPTION:Please join us for a double home dedication!\nA Habitat Home Dedication is the best 15 minutes of your day! Home Dedications are held at the finished home of a Habitat Homeownership Partner. When a new homeowner opens the front door of their new safe and affordable home for the first time\, it serves as a symbol of breaking the cycle of generational poverty. Join us to learn the impact of the Habitat for Humanity program and how you can get involved.\nThe Young Family’s new home is located at 1288 Gooden Crossing\, Largo\, FL 33778 and is sponsored by the 2025 Faith Build. The Schultz Family’s home is located at 1298 Gooden Crossing\, Largo\, FL 33778 and is sponsored by Pinellas Community Partnerships.\nThe dedication will also be broadcast live: https://www.facebook.com/HabitatTampaBayGulfside/live/\nFor more information on the Young & Schultz Families and other Habitat families\, please visit our Homeowner Stories blog at: https://mediumvioletred-elk-623988.hostingersite.com/news/homeowner-stories/
URL:https://habitattbg.org/event/double-home-dedication-the-young-schultz-families/
LOCATION:1288 Gooden Crossing\, Largo\, FL 33778
CATEGORIES:Home Dedication
END:VEVENT
BEGIN:VEVENT
DTSTART;TZID=America/New_York:20250514T000000
DTEND;TZID=America/New_York:20250514T000000
DTSTAMP:20260423T140155
CREATED:20250514T152108Z
LAST-MODIFIED:20250514T152108Z
UID:8049-1747180800-1747180800@habitattbg.org
SUMMARY:The Pickering Family Home Dedication
DESCRIPTION:Home Dedications are held at the finished home of a Habitat Homeownership Partner. When a new homeowner opens the front door of their new safe and affordable home for the first time\, it serves as a symbol of breaking the cycle of generational poverty. Join us to learn the impact of the Habitat for Humanity program and how you can get involved. \nThe Pickering Family’s new home is located at 9504 Spring Hill Drive\, Spring Hill\, FL 34608 and is sponsored by Coca Cola Beverages Florida. \nThe dedication will also be broadcast live: https://www.facebook.com/HabitatTampaBayGulfside/live/ \nFor more information on the Pickering Family and other Habitat families\, please visit our Homeowner Stories blog at: https://mediumvioletred-elk-623988.hostingersite.com/news/homeowner-stories/
URL:https://habitattbg.org/event/the-pickering-family-home-dedication/
END:VEVENT
BEGIN:VEVENT
DTSTART;TZID=America/New_York:20250520T100000
DTEND;TZID=America/New_York:20250520T110000
DTSTAMP:20260423T140155
CREATED:20250506T191859Z
LAST-MODIFIED:20250506T191859Z
UID:7994-1747735200-1747738800@habitattbg.org
SUMMARY:Kiowa Drive Groundbreaking
DESCRIPTION:Join us on Monday\, May 19th at 10:00 AM as Habitat for Humanity Tampa Bay Gulfside breaks ground on seven new single-family homes on Kiowa Drive in Pasco County. \nThis special event marks the beginning of major affordable housing progress in Pasco that will bring strength\, stability\, and self-reliance through homeownership to seven deserving families in our community. We invite local leaders\, supporters\, and members of the community to gather to celebrate the power of affordable housing and community partnership. \nDiscover ways to become involved with the construction of these homes and celebrate alongside the community.
URL:https://habitattbg.org/event/kiowa-drive-groundbreaking/
LOCATION:9445 Kiowa Dr.\, New Port Richey\, FL 34654\, 9445 Kiowa Dr.\, New Port Richey\, FL\, 34654\, United States
ATTACH;FMTTYPE=image/png:https://habitattbg.org/wp-content/uploads/2025/05/KiowaGroundbreaking_invite.png
END:VEVENT
BEGIN:VEVENT
DTSTART;TZID=America/New_York:20250527T093000
DTEND;TZID=America/New_York:20250527T100000
DTSTAMP:20260423T140155
CREATED:20250416T193839Z
LAST-MODIFIED:20250416T193839Z
UID:7903-1748338200-1748340000@habitattbg.org
SUMMARY:The McKinney Family Home Dedication
DESCRIPTION:Please join us to celebrate the home dedication of Maya and her family.\nA Habitat Home Dedication is the best 15 minutes of your day! Home Dedications are held at the finished home of a Habitat Homeownership Partner. When a new homeowner opens the front door of their new safe and affordable home for the first time\, it serves as a symbol of breaking the cycle of generational poverty. Join us to learn the impact of the Habitat for Humanity program and how you can get involved.The McKinney Family’s new home is located at 1100 16th Ave. N.\, St. Petersburg\, FL 33705 and is sponsored by Orlando Health Bayfront Hospital.The dedication will also be broadcast live: https://www.facebook.com/HabitatTampaBayGulfside/live/For more information on the McKinney Family and other Habitat families\, please visit our Homeowner Stories blog at: https://mediumvioletred-elk-623988.hostingersite.com/news/homeowner-stories/
URL:https://habitattbg.org/event/the-mckinney-family-home-dedication/
LOCATION:1100 16th Ave. N.\, St. Petersburg\, FL 33705
CATEGORIES:Home Dedication
END:VEVENT
BEGIN:VEVENT
DTSTART;TZID=America/New_York:20250529T090000
DTEND;TZID=America/New_York:20250529T093000
DTSTAMP:20260423T140155
CREATED:20250416T200339Z
LAST-MODIFIED:20250416T200339Z
UID:7910-1748509200-1748511000@habitattbg.org
SUMMARY:The Seville Family Home Dedication
DESCRIPTION:A Habitat Home Dedication is the best 15 minutes of your day! Home Dedications are held at the finished home of a Habitat Homeownership Partner. When a new homeowner opens the front door of their new safe and affordable home for the first time\, it serves as a symbol of breaking the cycle of generational poverty. Join us to learn the impact of the Habitat for Humanity program and how you can get involved. \nThe Seville Family’s new home is located at 507 MLK Jr. Drive\, Tarpon Springs\, FL 34689 and is sponsored by Hooters. \nThe dedication will also be broadcast live: https://www.facebook.com/HabitatTampaBayGulfside/live/ \nFor more information on the Seville Family and other Habitat families\, please visit our Homeowner Stories blog at: https://mediumvioletred-elk-623988.hostingersite.com/news/homeowner-stories/
URL:https://habitattbg.org/event/the-seville-family-home-dedication/
LOCATION:507 MLK Jr. Drive\, Tarpon Springs\, FL 34689
CATEGORIES:Home Dedication
END:VEVENT
BEGIN:VEVENT
DTSTART;TZID=America/New_York:20250529T093000
DTEND;TZID=America/New_York:20250529T100000
DTSTAMP:20260423T140155
CREATED:20250416T201355Z
LAST-MODIFIED:20250416T201355Z
UID:7913-1748511000-1748512800@habitattbg.org
SUMMARY:The Martinez Family Home Dedication
DESCRIPTION:A Habitat Home Dedication is the best 15 minutes of your day! Home Dedications are held at the finished home of a Habitat Homeownership Partner. When a new homeowner opens the front door of their new safe and affordable home for the first time\, it serves as a symbol of breaking the cycle of generational poverty. Join us to learn the impact of the Habitat for Humanity program and how you can get involved. \nThe Martinez Family’s new home is located at 505 MLK Jr. Drive\, Tarpon Springs\, FL 34689 and is sponsored by the 2024 Golfing Fore Habitat Topgolf Challenge. \nThe dedication will also be broadcast live: https://www.facebook.com/HabitatTampaBayGulfside/live/ \nFor more information on the Martinez Family and other Habitat families\, please visit our Homeowner Stories blog at: https://mediumvioletred-elk-623988.hostingersite.com/news/homeowner-stories/
URL:https://habitattbg.org/event/the-martinez-family-home-dedication/
LOCATION:505 MLK Jr. Drive\, Tarpon Springs\, FL 34689
CATEGORIES:Home Dedication
END:VEVENT
BEGIN:VEVENT
DTSTART;TZID=America/New_York:20250530T090000
DTEND;TZID=America/New_York:20250530T093000
DTSTAMP:20260423T140155
CREATED:20250416T195419Z
LAST-MODIFIED:20250416T195419Z
UID:7907-1748595600-1748597400@habitattbg.org
SUMMARY:The De Lerma Family Home Dedication
DESCRIPTION:Please join us to celebrate the home dedication of the De Lerma Family.\nA Habitat Home Dedication is the best 15 minutes of your day! Home Dedications are held at the finished home of a Habitat Homeownership Partner. When a new homeowner opens the front door of their new safe and affordable home for the first time\, it serves as a symbol of breaking the cycle of generational poverty. Join us to learn the impact of the Habitat for Humanity program and how you can get involved.\nThe De Lerma Family’s new home is located at 6485 31st St. N.\, St. Petersburg\, FL 33702 and is sponsored by Steve & Shirley Dehmlow and Terwilliger Brothers Residential.\nThe dedication will also be broadcast live: https://www.facebook.com/HabitatTampaBayGulfside/live/\nFor more information on the De Lerma Family and other Habitat families\, please visit our Homeowner Stories blog at: https://mediumvioletred-elk-623988.hostingersite.com/news/homeowner-stories/
URL:https://habitattbg.org/event/the-de-lerma-family-home-dedication/
LOCATION:6485 31st St. N.\, St. Petersburg\, FL 33702
CATEGORIES:Home Dedication
END:VEVENT
END:VCALENDAR