BEGIN:VCALENDAR
VERSION:2.0
PRODID:-//Habitat for Humanity Tampa Bay Gulfside - ECPv6.15.20//NONSGML v1.0//EN
CALSCALE:GREGORIAN
METHOD:PUBLISH
X-WR-CALNAME:Habitat for Humanity Tampa Bay Gulfside
X-ORIGINAL-URL:https://habitattbg.org
X-WR-CALDESC:Events for Habitat for Humanity Tampa Bay Gulfside
REFRESH-INTERVAL;VALUE=DURATION:PT1H
X-Robots-Tag:noindex
X-PUBLISHED-TTL:PT1H
BEGIN:VTIMEZONE
TZID:America/New_York
BEGIN:DAYLIGHT
TZOFFSETFROM:-0500
TZOFFSETTO:-0400
TZNAME:EDT
DTSTART:20240310T070000
END:DAYLIGHT
BEGIN:STANDARD
TZOFFSETFROM:-0400
TZOFFSETTO:-0500
TZNAME:EST
DTSTART:20241103T060000
END:STANDARD
BEGIN:DAYLIGHT
TZOFFSETFROM:-0500
TZOFFSETTO:-0400
TZNAME:EDT
DTSTART:20250309T070000
END:DAYLIGHT
BEGIN:STANDARD
TZOFFSETFROM:-0400
TZOFFSETTO:-0500
TZNAME:EST
DTSTART:20251102T060000
END:STANDARD
BEGIN:DAYLIGHT
TZOFFSETFROM:-0500
TZOFFSETTO:-0400
TZNAME:EDT
DTSTART:20260308T070000
END:DAYLIGHT
BEGIN:STANDARD
TZOFFSETFROM:-0400
TZOFFSETTO:-0500
TZNAME:EST
DTSTART:20261101T060000
END:STANDARD
END:VTIMEZONE
BEGIN:VEVENT
DTSTART;TZID=America/New_York:20250424T090000
DTEND;TZID=America/New_York:20250424T093000
DTSTAMP:20260423T153707
CREATED:20250416T193700Z
LAST-MODIFIED:20250416T193700Z
UID:7900-1745485200-1745487000@habitattbg.org
SUMMARY:The Marion-Copeland Family Home Dedication
DESCRIPTION:Please join us to celebrate the home dedication of Natasha\, her son Alfred\, her son Leondre’\, and her daughter Angel.\nA Habitat Home Dedication is the best 15 minutes of your day! Home Dedications are held at the finished home of a Habitat Homeownership Partner. When a new homeowner opens the front door of their new safe and affordable home for the first time\, it serves as a symbol of breaking the cycle of generational poverty. Join us to learn the impact of the Habitat for Humanity program and how you can get involved.\nThe Marion-Copeland Family’s new home is located at 1146 16th Ave. S.\, St. Petersburg\, FL 33705 and is sponsored by Parkshore Grill.\nThe dedication will also be broadcast live: https://www.facebook.com/HabitatTampaBayGulfside/live/\nFor more information on the Marion-Copeland Family and other Habitat families\, please visit our Homeowner Stories blog at: https://mediumvioletred-elk-623988.hostingersite.com/news/homeowner-stories/.
URL:https://habitattbg.org/event/the-marion-copeland-family-home-dedication/
LOCATION:1146 16th Ave. S.\, St. Petersburg\, FL 33705
CATEGORIES:Home Dedication
END:VEVENT
BEGIN:VEVENT
DTSTART;TZID=America/New_York:20250430T100000
DTEND;TZID=America/New_York:20250430T110000
DTSTAMP:20260423T153707
CREATED:20250416T160840Z
LAST-MODIFIED:20250416T160840Z
UID:7896-1746007200-1746010800@habitattbg.org
SUMMARY:Shell Dash Townhomes Dedication Block Party
DESCRIPTION:Join us on Wednesday\, April 30th\, at 10:00 AM as we celebrate the home dedications of ten families at our new Shell Dash Townhomes.\nThis celebration marks the completion of the Shell Dash townhome development\, which will be home to 10 families.\n\nThank you to our partners on this project: DuCon Construction\, the State of Florida\, and the City of St. Petersburg.\n\nHome Dedications are held at the finished home of a Habitat Homeownership Partner. When a new homeowner opens the front door of their new safe and affordable home for the first time\, it symbolizes breaking the cycle of generational poverty. Join us to learn about the impact of the Habitat for Humanity program and how you can get involved.\n\nThe following families will be earning the keys to their forever homes:The Young FamilyThe Quarterman FamilyThe Lang FamilyThe Ferguson FamilyThe Kelty FamilyThe Brown FamilyThe Washington FamilyThe Bingham FamilyThe Cubby-Latimer FamilyThe Thomas Family\n\nThe dedications will also be broadcast live: https://www.facebook.com/HabitatTampaBayGulfside/live/\n\nFor more information on these Habitat families\, please visit our Homeowner Stories blog at: https://mediumvioletred-elk-623988.hostingersite.com/news/homeowner-stories/
URL:https://habitattbg.org/event/shell-dash-townhomes-dedication-block-party/
LOCATION:1120 16th St. S.\, St. Petersburg\, FL 33712
CATEGORIES:Home Dedication
END:VEVENT
END:VCALENDAR